BEGIN:VCALENDAR
PRODID:Nexudus
VERSION:2.0
BEGIN:VTIMEZONE
TZID:Europe/Paris
X-LIC-LOCATION:Europe/Paris
BEGIN:STANDARD
DTSTART:20241027T030000
RRULE:FREQ=YEARLY;BYDAY=-1SU;BYMONTH=10
TZNAME:CET
TZOFFSETFROM:+0200
TZOFFSETTO:+0100
END:STANDARD
BEGIN:DAYLIGHT
DTSTART:20250330T020000
RRULE:FREQ=YEARLY;BYDAY=-1SU;BYMONTH=3
TZNAME:CEST
TZOFFSETFROM:+0100
TZOFFSETTO:+0200
END:DAYLIGHT
END:VTIMEZONE
BEGIN:VEVENT
DESCRIPTION:Es una experiencia cómica única e irrepetible\, en la que el 
 público decide de \nmanera directa la mayoría de los elementos de las hi
 storias que se representan. \nNuestros actores no saben qué personajes in
 terpretarán o dónde se \ndesarrollarán sus aventuras escénicas hasta q
 ue el público da sus indicaciones. \nUna gran variedad de pruebasdan colo
 r a las improvisaciones\, que se encuentran \nen verdaderos retos cuya dif
 icultad creciente contagia al público \ndel vértigo que supone el salto 
 alvacío característico de este tipo de teatro.\nEvent link: https://teat
 roavanti.spaces.nexudus.com/en/events/view/1414894072/improductivos-show--
 ---sábado-17-abril-2021-a-las-18-00-h--publico-adulto-\n
DTEND;TZID=Europe/Paris:20210417T213000
DTSTAMP:20260422T010440Z
DTSTART;TZID=Europe/Paris:20210417T200000
LOCATION:Teatro Avanti
SEQUENCE:0
SUMMARY:IMPRODUCTIVOS SHOW -   Sábado 17 Abril 2021 a las 18:00 h (Publico
  adulto)
UID:8983124a-0e65-46d4-8018-36074fea3a32
END:VEVENT
END:VCALENDAR
