BEGIN:VCALENDAR
PRODID:Nexudus
VERSION:2.0
BEGIN:VTIMEZONE
TZID:Europe/Paris
X-LIC-LOCATION:Europe/Paris
BEGIN:STANDARD
DTSTART:20241027T030000
RRULE:FREQ=YEARLY;BYDAY=-1SU;BYMONTH=10
TZNAME:CET
TZOFFSETFROM:+0200
TZOFFSETTO:+0100
END:STANDARD
BEGIN:DAYLIGHT
DTSTART:20250330T020000
RRULE:FREQ=YEARLY;BYDAY=-1SU;BYMONTH=3
TZNAME:CEST
TZOFFSETFROM:+0100
TZOFFSETTO:+0200
END:DAYLIGHT
END:VTIMEZONE
BEGIN:VEVENT
DESCRIPTION:Querella de Lope y las mujeres habla del tiempo que altera la m
 irada sobre las cosas\, y… lo convierte todo en ceniza. Como\, por ejemp
 lo\, algunos de los valores que\, inevitablemente\, transmiten las obras d
 e Lope. Posiblemente eran muy avanzados para la época en la que fueron es
 critas\, pero no podían dejar de estar enmarcados en el orden social de e
 ntonces\, resultando ahora obsoletos.\nEl tiempo es el que no dejará de p
 asar\, y nos hará revisar la mirada sobre la sociedad\, sobre la mujer y 
 el hombre\, sobre el Teatro. Y así nos sumergimos en este viaje y así ll
 egamos a querella de Lope y las mujeres.\n\nEvent link: https://teatroavan
 ti.spaces.nexudus.com/en/events/view/1414864358/querella-de-lope-y-las-muj
 eres---viernes-19-y-sábado-20-febrero---16-30-h--público-adulto-\n
DTEND;TZID=Europe/Paris:20210220T173000
DTSTAMP:20260422T023932Z
DTSTART;TZID=Europe/Paris:20210219T163000
LOCATION:Teatro Avanti
SEQUENCE:0
SUMMARY:QUERELLA DE LOPE Y LAS MUJERES - Viernes 19 y sábado 20 Febrero ( 
 16:30 h) Público Adulto.
UID:700f4076-bc22-46c2-99d2-9b029a4db4c4
END:VEVENT
END:VCALENDAR
