BEGIN:VCALENDAR
PRODID:Nexudus
VERSION:2.0
BEGIN:VTIMEZONE
TZID:Europe/Paris
X-LIC-LOCATION:Europe/Paris
BEGIN:STANDARD
DTSTART:20241027T030000
RRULE:FREQ=YEARLY;BYDAY=-1SU;BYMONTH=10
TZNAME:CET
TZOFFSETFROM:+0200
TZOFFSETTO:+0100
END:STANDARD
BEGIN:DAYLIGHT
DTSTART:20250330T020000
RRULE:FREQ=YEARLY;BYDAY=-1SU;BYMONTH=3
TZNAME:CEST
TZOFFSETFROM:+0100
TZOFFSETTO:+0200
END:DAYLIGHT
END:VTIMEZONE
BEGIN:VEVENT
DESCRIPTION:Con motivo del Día Internacional contra el Cáncer Infantil\, 
 tendrá lugar una gran\nGala Solidaria. Serán\, Los Médicos de la Risa d
 el Hospital Universitario Reina Sofía\nde Córdoba\, y Teatro Avanti los 
 encargados de hacer un día inolvidable a través\nde la magia\, el circo 
 y mucha alegría\, además de ofrecer y aportar nuestra ayuda\npor una gra
 n causa. El importe recaudado de esta gala se destinará\, a través\ndel 
 Instituto Maimónides de Investigación Biomédica de Córdoba (IMIBIC)\, 
 a la\ninvestigación en oncología pediátrica que se lleva a cabo en dich
 o instituto y en\nel Hospital Universitario Reina Sofía.\nEvent link: htt
 ps://teatroavanti.spaces.nexudus.com/en/events/view/1414864257/gala-contra
 -el-cancer-infantil--domingo-14-febrero---16-30-h--publico-familiar\n
DTEND;TZID=Europe/Paris:20210214T191500
DTSTAMP:20260422T024100Z
DTSTART;TZID=Europe/Paris:20210214T163000
LOCATION:Teatro Avanti
SEQUENCE:0
SUMMARY:GALA CONTRA EL CANCER INFANTIL -Domingo 14 Febrero ( 16:30 h) Publi
 co Familiar
UID:01996b51-55ea-4e0c-ba33-af7db159ec05
END:VEVENT
END:VCALENDAR
