BEGIN:VCALENDAR
PRODID:Nexudus
VERSION:2.0
BEGIN:VTIMEZONE
TZID:Europe/Paris
X-LIC-LOCATION:Europe/Paris
BEGIN:STANDARD
DTSTART:20241027T030000
RRULE:FREQ=YEARLY;BYDAY=-1SU;BYMONTH=10
TZNAME:CET
TZOFFSETFROM:+0200
TZOFFSETTO:+0100
END:STANDARD
BEGIN:DAYLIGHT
DTSTART:20250330T020000
RRULE:FREQ=YEARLY;BYDAY=-1SU;BYMONTH=3
TZNAME:CEST
TZOFFSETFROM:+0100
TZOFFSETTO:+0200
END:DAYLIGHT
END:VTIMEZONE
BEGIN:VEVENT
DESCRIPTION:Un estrafalario mendigo convoca con su cantinela a los estupefa
 ctos “lugareños”:\nquiere conseguir apoyo para su enigmático “Plan
  infalible” que\,\ndice\, solucionará los problemas de España y aún d
 el mundo. Uno de los\nasistentes se postula para ayudar y convertirse en s
 u Asesor con la secreta\nintención de robarle su “Plan”.\n\nEvent lin
 k: https://teatroavanti.spaces.nexudus.com/en/events/view/1414862901/dialo
 gos-de-la-basura--viernes-29-y-sábado-30--16-30-horas--público-adulto\n
DTEND;TZID=Europe/Paris:20210130T213000
DTSTAMP:20260422T041207Z
DTSTART;TZID=Europe/Paris:20210129T163000
LOCATION:Teatro Avanti
SEQUENCE:0
SUMMARY:DIALOGOS DE LA BASURA. Viernes 29 y Sábado 30 (16:30 horas) Públi
 co Adulto
UID:fc96677b-be54-4e13-a272-f020b3fd4c4d
END:VEVENT
END:VCALENDAR
