BEGIN:VCALENDAR
PRODID:Nexudus
VERSION:2.0
BEGIN:VTIMEZONE
TZID:Europe/Paris
X-LIC-LOCATION:Europe/Paris
BEGIN:STANDARD
DTSTART:20241027T030000
RRULE:FREQ=YEARLY;BYDAY=-1SU;BYMONTH=10
TZNAME:CET
TZOFFSETFROM:+0200
TZOFFSETTO:+0100
END:STANDARD
BEGIN:DAYLIGHT
DTSTART:20250330T020000
RRULE:FREQ=YEARLY;BYDAY=-1SU;BYMONTH=3
TZNAME:CEST
TZOFFSETFROM:+0100
TZOFFSETTO:+0200
END:DAYLIGHT
END:VTIMEZONE
BEGIN:VEVENT
DESCRIPTION:Un estrafalario mendigo convoca con su cantinela a los estupefa
 ctos “lugareños”:\nquiere conseguir apoyo para su enigmático “Plan
  infalible” que\,\ndice\, solucionará los problemas de España y aún d
 el mundo. Uno de los\nasistentes se postula para ayudarle y convertirse en
  su Asesor con la secreta\nintención de robarle su “Plan”.\nEvent lin
 k: https://teatroavanti.spaces.nexudus.com/en/events/view/1414862749/copia
 -de-dialogos-de-la-basura--aplazado--se-informara-de-la-nueva-fecha-con-an
 telación-\n
DTEND;TZID=Europe/Paris:20201121T210000
DTSTAMP:20260422T041239Z
DTSTART;TZID=Europe/Paris:20201120T210000
LOCATION:Teatro Avanti
SEQUENCE:0
SUMMARY:Copia de DIALOGOS DE LA BASURA. APLAZADO. Se informara de la nueva 
 fecha con antelación.
UID:56e07948-38b6-4931-9cb6-cb7e9ce3c453
END:VEVENT
END:VCALENDAR
