BEGIN:VCALENDAR
PRODID:Nexudus
VERSION:2.0
BEGIN:VTIMEZONE
TZID:Europe/Paris
X-LIC-LOCATION:Europe/Paris
BEGIN:STANDARD
DTSTART:20241027T030000
RRULE:FREQ=YEARLY;BYDAY=-1SU;BYMONTH=10
TZNAME:CET
TZOFFSETFROM:+0200
TZOFFSETTO:+0100
END:STANDARD
BEGIN:DAYLIGHT
DTSTART:20250330T020000
RRULE:FREQ=YEARLY;BYDAY=-1SU;BYMONTH=3
TZNAME:CEST
TZOFFSETFROM:+0100
TZOFFSETTO:+0200
END:DAYLIGHT
END:VTIMEZONE
BEGIN:VEVENT
DESCRIPTION:Es una experiencia cómica única e irrepetible\, en la que el 
 público decide de\nmanera directa la mayoría de los elementos de las his
 torias que se representan.\nNuestros actores no saben qué personajes inte
 rpretarán o dónde se\ndesarrollarán sus aventuras escénicas hasta que 
 el público da sus indicaciones.\nUna gran variedad de pruebasdan color a 
 las improvisaciones\, que se\nconvierten en verdaderos retos cuya dificult
 ad creciente contagia al público\ndel vértigo que supone el salto alvac
 ío característico de este tipo de teatro.\nEvent link: https://teatroava
 nti.spaces.nexudus.com/en/events/view/1414862742/improductivos-show--sába
 do-16-enero---18-00-horas-\n
DTEND;TZID=Europe/Paris:20210116T073000
DTSTAMP:20260422T041246Z
DTSTART;TZID=Europe/Paris:20210116T180000
LOCATION:Teatro Avanti
SEQUENCE:0
SUMMARY:Improductivos Show. Sábado 16 Enero. (18:00 horas)
UID:9d20a627-99a5-4f76-8f16-aa4d175043d7
END:VEVENT
END:VCALENDAR
