BEGIN:VCALENDAR
PRODID:Nexudus
VERSION:2.0
BEGIN:VTIMEZONE
TZID:Europe/Paris
X-LIC-LOCATION:Europe/Paris
BEGIN:STANDARD
DTSTART:20241027T030000
RRULE:FREQ=YEARLY;BYDAY=-1SU;BYMONTH=10
TZNAME:CET
TZOFFSETFROM:+0200
TZOFFSETTO:+0100
END:STANDARD
BEGIN:DAYLIGHT
DTSTART:20250330T020000
RRULE:FREQ=YEARLY;BYDAY=-1SU;BYMONTH=3
TZNAME:CEST
TZOFFSETFROM:+0100
TZOFFSETTO:+0200
END:DAYLIGHT
END:VTIMEZONE
BEGIN:VEVENT
DESCRIPTION:«CHIMPÚN es un espectáculo que nos habla de las despedidas\,
  de como asumir que los seres queridos se vayan definitivamente… Una div
 ertida aventura de Arden que apuesta por la escritura joven y valiente de 
 su autora y directora Marian Villaescusa\, por compartir con los espectado
 res más pequeños\, una historia vital para romper miedos e invitarlos a 
 disfrutar de cada día de la vida.\nPero ¿Puede ser que\, hablando de és
 to\, se pueda reír\, cantar y bailar? Claro que se puede!\nOs proponemos 
 un viaje. Un viaje por algunas culturas del mundo que tratan este tema\, e
 n principio triste\, de unas maneras muy especiales. México\, África\, I
 ndia…\nDos amigas nos conducirán por los estados de ánimo que acompañ
 an al duelo\, y aprenderán que no tenemos que temer a la vida\, ni al fin
  de ella.\nEvent link: https://teatroavanti.spaces.nexudus.com/en/events/v
 iew/1414862444/chimpun---domingo-24-enero---12-00--sesion-16-30h-aplazada-
 hasta-nueva-fecha\n
DTEND;TZID=Europe/Paris:20210124T190000
DTSTAMP:20260422T041207Z
DTSTART;TZID=Europe/Paris:20210124T120000
LOCATION:Teatro Avanti
SEQUENCE:0
SUMMARY:CHIMPUN - Domingo 24 Enero ( 12:00) Sesion 16.30h aplazada hasta nu
 eva fecha
UID:282585ff-3472-4858-95ce-0c4074850283
END:VEVENT
END:VCALENDAR
