BEGIN:VCALENDAR
PRODID:Nexudus
VERSION:2.0
BEGIN:VTIMEZONE
TZID:Europe/Paris
X-LIC-LOCATION:Europe/Paris
BEGIN:STANDARD
DTSTART:20241027T030000
RRULE:FREQ=YEARLY;BYDAY=-1SU;BYMONTH=10
TZNAME:CET
TZOFFSETFROM:+0200
TZOFFSETTO:+0100
END:STANDARD
BEGIN:DAYLIGHT
DTSTART:20250330T020000
RRULE:FREQ=YEARLY;BYDAY=-1SU;BYMONTH=3
TZNAME:CEST
TZOFFSETFROM:+0100
TZOFFSETTO:+0200
END:DAYLIGHT
END:VTIMEZONE
BEGIN:VEVENT
DESCRIPTION:Trolly tiene un jardín\, dónde recibe visitas\nde otros perso
 najes a los que les ocurre algo. Trolly\,\npinta de colores las flores par
 a interpretar las\nemociones y así poder ayudar a todos a comprender\nque
  les ocurre.\nContinuando con su línea pedagógica\,\nFarandulario Teatro
  pone en escena “Trolly\nPintaflores”. Para lo cual recurre a una inte
 rpretación\ninteractiva con los niños y niñas\, proyecciones de\nfondos
  con colores y fomas en movimiento\, y otros\nrecursos cómo magia\, las b
 urbujas\, la nieve\, el humo y\nel cantajuegos.\nEvent link: https://teatr
 oavanti.spaces.nexudus.com/en/events/view/1414860229/trolly-pintaflores---
 domingo-10-enero---18-00-h----público-familiar--aplazado-hasta-nueva-fech
 a\n
DTEND;TZID=Europe/Paris:20210110T200000
DTSTAMP:20260422T041131Z
DTSTART;TZID=Europe/Paris:20210110T180000
LOCATION:Teatro Avanti
SEQUENCE:0
SUMMARY:TROLLY PINTAFLORES - Domingo 10 Enero ( 18:00 h) - Público familia
 r. APLAZADO HASTA NUEVA FECHA
UID:b4a02fc3-0e09-480f-a5d8-c65be8593208
END:VEVENT
END:VCALENDAR
