BEGIN:VCALENDAR
PRODID:Nexudus
VERSION:2.0
BEGIN:VTIMEZONE
TZID:Europe/Paris
X-LIC-LOCATION:Europe/Paris
BEGIN:STANDARD
DTSTART:20241027T030000
RRULE:FREQ=YEARLY;BYDAY=-1SU;BYMONTH=10
TZNAME:CET
TZOFFSETFROM:+0200
TZOFFSETTO:+0100
END:STANDARD
BEGIN:DAYLIGHT
DTSTART:20250330T020000
RRULE:FREQ=YEARLY;BYDAY=-1SU;BYMONTH=3
TZNAME:CEST
TZOFFSETFROM:+0100
TZOFFSETTO:+0200
END:DAYLIGHT
END:VTIMEZONE
BEGIN:VEVENT
DESCRIPTION:La creación y formación de nuevos públicos\, la confección 
 de novedosos\nformatos que permitan visibilizar y acercar mis trabajos al 
 espectador\, se\nha convertido en la columna vertebral de esta nueva fanta
 sía coreográfica\,\nRETROSPECTIVA 2.0 | Conferencia Bailada. Un espectá
 culo donde la palabra\ny el movimiento se convierten en catalizadores haci
 a una transformación\ny recuperación de\nEvent link: https://teatroavant
 i.spaces.nexudus.com/en/events/view/1400588190/retrospectiva-2-0----sábad
 o-27-febrero---16-30-h--público-adulto\n
DTEND;TZID=Europe/Paris:20210227T173000
DTSTAMP:20260422T024131Z
DTSTART;TZID=Europe/Paris:20210226T163000
LOCATION:Teatro Avanti
SEQUENCE:0
SUMMARY:Retrospectiva 2.0  - Sábado 27 Febrero ( 16:30 h) Público Adulto
UID:0037882e-ff12-46ae-9fcb-eb83ac1bbd52
END:VEVENT
END:VCALENDAR
