BEGIN:VCALENDAR
PRODID:Nexudus
VERSION:2.0
BEGIN:VTIMEZONE
TZID:Europe/Paris
X-LIC-LOCATION:Europe/Paris
BEGIN:STANDARD
DTSTART:20241027T030000
RRULE:FREQ=YEARLY;BYDAY=-1SU;BYMONTH=10
TZNAME:CET
TZOFFSETFROM:+0200
TZOFFSETTO:+0100
END:STANDARD
BEGIN:DAYLIGHT
DTSTART:20250330T020000
RRULE:FREQ=YEARLY;BYDAY=-1SU;BYMONTH=3
TZNAME:CEST
TZOFFSETFROM:+0100
TZOFFSETTO:+0200
END:DAYLIGHT
END:VTIMEZONE
BEGIN:VEVENT
DESCRIPTION:XV Festival de Circo de Córdoba. \nEl Güasa de Los Güilson e
 s un espectáculo vivo donde la diversión está  \ngarantizada. Espectác
 ulo circense\, interactivo\, actual\, moderno\, lleno de  \nritmo y energ
 ía\, con la música como protagonista. \nTres personajes nos llevarán a 
 un mundo donde lo disparatado y la locura  \nbien entendida nos harán pas
 ar momentos de risa\, de mucha risa  \nEvent link: https://teatroavanti.sp
 aces.nexudus.com/en/events/view/1400588189/el-güasa-de-los-güilson-5ggg-
 --aplazado\n
DTEND;TZID=Europe/Paris:20201129T200000
DTSTAMP:20260422T041131Z
DTSTART;TZID=Europe/Paris:20201129T180000
LOCATION:Teatro Avanti
SEQUENCE:0
SUMMARY:El Güasa de los Güilson 5Ggg - APLAZADO
UID:8a3c4e93-2efa-4b03-85aa-d9ff809b508c
END:VEVENT
END:VCALENDAR
