BEGIN:VCALENDAR
PRODID:Nexudus
VERSION:2.0
BEGIN:VTIMEZONE
TZID:Europe/Paris
X-LIC-LOCATION:Europe/Paris
BEGIN:STANDARD
DTSTART:20241027T030000
RRULE:FREQ=YEARLY;BYDAY=-1SU;BYMONTH=10
TZNAME:CET
TZOFFSETFROM:+0200
TZOFFSETTO:+0100
END:STANDARD
BEGIN:DAYLIGHT
DTSTART:20250330T020000
RRULE:FREQ=YEARLY;BYDAY=-1SU;BYMONTH=3
TZNAME:CEST
TZOFFSETFROM:+0100
TZOFFSETTO:+0200
END:DAYLIGHT
END:VTIMEZONE
BEGIN:VEVENT
DESCRIPTION:XV Festival de Circo de Córdoba.\nEl Güasa de Los Güilson es
  un espectáculo vivo donde la diversión está\ngarantizada. Espectáculo
  circense\, interactivo\, actual\, moderno\, lleno de\nritmo y energía\, 
 con la música como protagonista.\nTres personajes nos llevarán a un mund
 o donde lo disparatado y la locura\nbien entendida nos harán pasar moment
 os de risa\, de mucha risa\nEvent link: https://teatroavanti.spaces.nexudu
 s.com/en/events/view/1400575176/el-güasa-de-los-güilson-5ggg---domingo-2
 9-noviembre--18-00-horas--público-familiar-\n
DTEND;TZID=Europe/Paris:20201009T000000
DTSTAMP:20260422T054632Z
DTSTART;TZID=Europe/Paris:20201008T000000
LOCATION:Teatro Avanti
SEQUENCE:0
SUMMARY:El Güasa de los Güilson 5Ggg - Domingo 29 Noviembre (18:00 horas)
  Público Familiar.
UID:c2565511-bb1e-4426-b131-ff1b6e27da33
END:VEVENT
END:VCALENDAR
