BEGIN:VCALENDAR
PRODID:Nexudus
VERSION:2.0
BEGIN:VTIMEZONE
TZID:Europe/Paris
X-LIC-LOCATION:Europe/Paris
BEGIN:STANDARD
DTSTART:20241027T030000
RRULE:FREQ=YEARLY;BYDAY=-1SU;BYMONTH=10
TZNAME:CET
TZOFFSETFROM:+0200
TZOFFSETTO:+0100
END:STANDARD
BEGIN:DAYLIGHT
DTSTART:20250330T020000
RRULE:FREQ=YEARLY;BYDAY=-1SU;BYMONTH=3
TZNAME:CEST
TZOFFSETFROM:+0100
TZOFFSETTO:+0200
END:DAYLIGHT
END:VTIMEZONE
BEGIN:VEVENT
DESCRIPTION:Un año mas reunimos en la gran gala del Festival de Magia IMAG
 ILUSION a los mejores magos de renombre nacional .\nEn esta edición tenem
 os la suerte de contar con Mago Francis Zafrilla (Albacete)\, Mago Voty (G
 ranada)\, Mago Luis Manuel(Granada)\, Magic Samk (Cádiz)\, Mago Javi Cruz
  (Málaga)\nEvent link: https://teatroavanti.spaces.nexudus.com/en/events/
 view/1398970592/gala-mágica-sábado-7-noviembre--20-00-h--todos-los-públ
 icos\n
DTEND;TZID=Europe/Paris:20201107T234500
DTSTAMP:20260422T054627Z
DTSTART;TZID=Europe/Paris:20201107T200000
LOCATION:Teatro Avanti
SEQUENCE:0
SUMMARY:GALA MÁGICA Sábado 7 Noviembre (20:00 h) Todos los públicos
UID:19b4171e-8626-4d1f-b8d1-8121645a0f29
END:VEVENT
END:VCALENDAR
