BEGIN:VCALENDAR
PRODID:Nexudus
VERSION:2.0
BEGIN:VTIMEZONE
TZID:Europe/Paris
X-LIC-LOCATION:Europe/Paris
BEGIN:STANDARD
DTSTART:20241027T030000
RRULE:FREQ=YEARLY;BYDAY=-1SU;BYMONTH=10
TZNAME:CET
TZOFFSETFROM:+0200
TZOFFSETTO:+0100
END:STANDARD
BEGIN:DAYLIGHT
DTSTART:20250330T020000
RRULE:FREQ=YEARLY;BYDAY=-1SU;BYMONTH=3
TZNAME:CEST
TZOFFSETFROM:+0100
TZOFFSETTO:+0200
END:DAYLIGHT
END:VTIMEZONE
BEGIN:VEVENT
DESCRIPTION:Javi Cruz y Anahí nos presentas este espectaculo de Magia para
  toda la familia. Especialistas en Grandes Ilusiones\, disfrutaremos de lo
 s mas increibles efectos de Magia con un estilo fresco y adornado con much
 o humor.\nEvent link: https://teatroavanti.spaces.nexudus.com/en/events/vi
 ew/1398781384/-unstoppable--mago-javi-cruz----viernes-6-noviembre-localida
 des-agotadas\n
DTEND;TZID=Europe/Paris:20201106T234500
DTSTAMP:20260422T054801Z
DTSTART;TZID=Europe/Paris:20201106T200000
LOCATION:Teatro Avanti
SEQUENCE:0
SUMMARY: “UNSTOPPABLE” Mago Javi Cruz  - Viernes 6 Noviembre LOCALIDADE
 S AGOTADAS
UID:09d0e092-0584-4668-af51-38241954b237
END:VEVENT
END:VCALENDAR
