BEGIN:VCALENDAR
PRODID:Nexudus
VERSION:2.0
BEGIN:VTIMEZONE
TZID:Europe/Paris
X-LIC-LOCATION:Europe/Paris
BEGIN:STANDARD
DTSTART:20241027T030000
RRULE:FREQ=YEARLY;BYDAY=-1SU;BYMONTH=10
TZNAME:CET
TZOFFSETFROM:+0200
TZOFFSETTO:+0100
END:STANDARD
BEGIN:DAYLIGHT
DTSTART:20250330T020000
RRULE:FREQ=YEARLY;BYDAY=-1SU;BYMONTH=3
TZNAME:CEST
TZOFFSETFROM:+0100
TZOFFSETTO:+0200
END:DAYLIGHT
END:VTIMEZONE
BEGIN:VEVENT
DESCRIPTION:La compañía de Jabetín Teatro nos trae una adaptación del c
 onocido libro de\nla escritora suiza Johanna Spyri. La historia del cuento
  Heidi es la de una niña\nhuérfana desde muy pequeña\, y queda al cuida
 do de su tía Dete.\nHeidi y su nuevo amigo Pedro vivirán divertidas aven
 turas. Allí conocerá a joven\npastor Pedro dónde vivirá divertidas ave
 nturas\, conocerá a los aldeanos\, a\nla abuelita de Pedro. Jabetín hace
  una adaptación divertida de este conocido\ncuento dónde grandes y peque
 ños se divertirán y podrán participar cantando y\nbailando durante la a
 ctuación.\nEvent link: https://teatroavanti.spaces.nexudus.com/en/events/
 view/1390936636/heidi--domingo-25-octubre-12-00horas---funcion-de-las-18-0
 0-horas-localidades-agotadas\n
DTEND;TZID=Europe/Paris:20201025T180000
DTSTAMP:20260422T054627Z
DTSTART;TZID=Europe/Paris:20201025T120000
LOCATION:Teatro Avanti
SEQUENCE:0
SUMMARY:Heidi. Domingo 25 Octubre 12:00horas - FUNCION DE LAS 18:00 horas L
 OCALIDADES AGOTADAS
UID:01142f89-02a9-4508-8a71-3677fae1ee3b
END:VEVENT
END:VCALENDAR
