BEGIN:VCALENDAR
PRODID:Nexudus
VERSION:2.0
BEGIN:VTIMEZONE
TZID:Europe/Paris
X-LIC-LOCATION:Europe/Paris
BEGIN:STANDARD
DTSTART:20241027T030000
RRULE:FREQ=YEARLY;BYDAY=-1SU;BYMONTH=10
TZNAME:CET
TZOFFSETFROM:+0200
TZOFFSETTO:+0100
END:STANDARD
BEGIN:DAYLIGHT
DTSTART:20250330T020000
RRULE:FREQ=YEARLY;BYDAY=-1SU;BYMONTH=3
TZNAME:CEST
TZOFFSETFROM:+0100
TZOFFSETTO:+0200
END:DAYLIGHT
END:VTIMEZONE
BEGIN:VEVENT
DESCRIPTION:Nuestra protagonista está sola ante el peligro. Camina sin esc
 udo ni coraza\ny se muestra tal y como es. Viene armada con la generosidad
  de los ingenuos\ncon la tozudez de sus convicciones\, con la gallardía d
 e los locos y\nexpone sin censura su fragilidad. Lo entrega todo para juga
 r\, con el objetivo\nde convertir algunas cosas “serias” en verdaderos
  disparates.\nEvent link: https://teatroavanti.spaces.nexudus.com/en/event
 s/view/1380644273/la-elegida---viernes-16-y-sábado-17-octubre--21-00-h--p
 ublico-adulto-\n
DTEND;TZID=Europe/Paris:20201017T210000
DTSTAMP:20260422T054754Z
DTSTART;TZID=Europe/Paris:20201016T080000
LOCATION:Teatro Avanti
SEQUENCE:0
SUMMARY:La elegida - Viernes 16 y Sábado 17 Octubre (21:00 h) Publico Adul
 to. 
UID:e3c226eb-5dc7-4738-8be9-bffa19dc3152
END:VEVENT
END:VCALENDAR
