BEGIN:VCALENDAR
PRODID:Nexudus
VERSION:2.0
BEGIN:VTIMEZONE
TZID:Europe/Paris
X-LIC-LOCATION:Europe/Paris
BEGIN:STANDARD
DTSTART:20241027T030000
RRULE:FREQ=YEARLY;BYDAY=-1SU;BYMONTH=10
TZNAME:CET
TZOFFSETFROM:+0200
TZOFFSETTO:+0100
END:STANDARD
BEGIN:DAYLIGHT
DTSTART:20250330T020000
RRULE:FREQ=YEARLY;BYDAY=-1SU;BYMONTH=3
TZNAME:CEST
TZOFFSETFROM:+0100
TZOFFSETTO:+0200
END:DAYLIGHT
END:VTIMEZONE
BEGIN:VEVENT
DESCRIPTION:Pincha aquí para descargar la primera parte de la programació
 n de Otoño\nEvent link: https://teatroavanti.spaces.nexudus.com/en/events
 /view/1377764388/descarga-aqui-la-segunda-parte-de-la-temporada-de-otoño\
 n
DTEND;TZID=Europe/Paris:20201214T090000
DTSTAMP:20260422T072726Z
DTSTART;TZID=Europe/Paris:20200908T230000
LOCATION:Teatro Avanti
SEQUENCE:0
SUMMARY:Descarga aqui la segunda parte de la temporada de OTOÑO
UID:c7e37396-3ddc-4166-95dc-718a592e3897
END:VEVENT
END:VCALENDAR
