BEGIN:VCALENDAR
PRODID:Nexudus
VERSION:2.0
BEGIN:VTIMEZONE
TZID:Europe/Paris
X-LIC-LOCATION:Europe/Paris
BEGIN:STANDARD
DTSTART:20241027T030000
RRULE:FREQ=YEARLY;BYDAY=-1SU;BYMONTH=10
TZNAME:CET
TZOFFSETFROM:+0200
TZOFFSETTO:+0100
END:STANDARD
BEGIN:DAYLIGHT
DTSTART:20250330T020000
RRULE:FREQ=YEARLY;BYDAY=-1SU;BYMONTH=3
TZNAME:CEST
TZOFFSETFROM:+0100
TZOFFSETTO:+0200
END:DAYLIGHT
END:VTIMEZONE
BEGIN:VEVENT
DESCRIPTION:Durante siete noches de agosto\, desde el anochecer al alba\, e
 n algún lugar entre la ensoñación y el recuerdo\, Adrienne y Aura\, una
  mujer y una niña\, se encuentran en el momento de apagar la luz para dor
 mir. En ese instante crecen las sombras y los miedos se deslizan por las p
 aredes. Todo asusta\, todo inquieta. Pero Adrienne\, Aura y la bailarina q
 ue las acompaña\, danzando sus sueños y desafiando a los monstruos\, rec
 orrerán jun-tas un camino que les dará paz. Noche tras noche\, ellas se 
 reúnen en la habitación de Aura\, en ese momento mágico que es el final
  del día\, para imaginar\, crear\, cantar\, contar y recordar. Y cada noc
 he aprenden algo nuevo que no sabían\, del mundo y de ellas mismas.\nEven
 t link: https://teatroavanti.spaces.nexudus.com/en/events/view/1374957599/
 la-vida-de-los-salmones---domingo-4-octubre---18-00-h---publico-familiar\n
DTEND;TZID=Europe/Paris:20201004T190000
DTSTAMP:20260422T054734Z
DTSTART;TZID=Europe/Paris:20201004T180000
LOCATION:Teatro Avanti
SEQUENCE:0
SUMMARY:LA VIDA DE LOS SALMONES - Domingo 4 Octubre ( 18:00 h ) Publico Fam
 iliar
UID:ca834a2c-39c0-4215-923e-5d974c622c28
END:VEVENT
END:VCALENDAR
