BEGIN:VCALENDAR
PRODID:Nexudus
VERSION:2.0
BEGIN:VTIMEZONE
TZID:Europe/Paris
X-LIC-LOCATION:Europe/Paris
BEGIN:STANDARD
DTSTART:20241027T030000
RRULE:FREQ=YEARLY;BYDAY=-1SU;BYMONTH=10
TZNAME:CET
TZOFFSETFROM:+0200
TZOFFSETTO:+0100
END:STANDARD
BEGIN:DAYLIGHT
DTSTART:20250330T020000
RRULE:FREQ=YEARLY;BYDAY=-1SU;BYMONTH=3
TZNAME:CEST
TZOFFSETFROM:+0100
TZOFFSETTO:+0200
END:DAYLIGHT
END:VTIMEZONE
BEGIN:VEVENT
DESCRIPTION:Sátira de esta vida tan incorregible que soportamos y nos cond
 uce a una espiral de situaciones y momentos antológicos\, de una sociedad
  cada día más primitiva\, con falta de criterio y el “todo vale” com
 o su leitmotiv. Un espectáculo divertido\, fresco\, directo y arrebatador
 amente sorprendente que en ocasiones consigue dejarte sin aliento.\nEvent 
 link: https://teatroavanti.spaces.nexudus.com/en/events/view/1371903533/ho
 y-no-me-puedo-acostar-con-marcos-arizmendi--sábado--3-octubre---21-00-h--
 -público-adulto--por-motivos-ajenos-a-teatro-avanti-este-espectáculo-est
 á-aplazado-hasta-nueva-fecha\n
DTEND;TZID=Europe/Paris:20201003T220000
DTSTAMP:20260422T072534Z
DTSTART;TZID=Europe/Paris:20201003T210000
LOCATION:Teatro Avanti
SEQUENCE:0
SUMMARY:HOY NO ME PUEDO ACOSTAR con Marcos Arizmendi- Sábado  3 Octubre ( 
 21:00 h). Público Adulto. POR MOTIVOS AJENOS A TEATRO AVANTI ESTE ESPECT
 ÁCULO ESTÁ APLAZADO HASTA NUEVA FECHA
UID:c2ec9913-a8e7-4c7a-9dd7-53bcb9f1a5c2
END:VEVENT
END:VCALENDAR
