BEGIN:VCALENDAR
PRODID:Nexudus
VERSION:2.0
BEGIN:VTIMEZONE
TZID:Europe/Paris
X-LIC-LOCATION:Europe/Paris
BEGIN:STANDARD
DTSTART:20241027T030000
RRULE:FREQ=YEARLY;BYDAY=-1SU;BYMONTH=10
TZNAME:CET
TZOFFSETFROM:+0200
TZOFFSETTO:+0100
END:STANDARD
BEGIN:DAYLIGHT
DTSTART:20250330T020000
RRULE:FREQ=YEARLY;BYDAY=-1SU;BYMONTH=3
TZNAME:CEST
TZOFFSETFROM:+0100
TZOFFSETTO:+0200
END:DAYLIGHT
END:VTIMEZONE
BEGIN:VEVENT
DESCRIPTION:****Manolo y Javier se cambian de piso. El excesivo amaneramien
 to de Manolo ha conseguido que ya todo el vecindario piense que tanto él 
 como Javier son pareja de hecho. Se mudan a un apartamento nuevo a petici
 ón de Javier que como única condición pide que el nuevo hogar tenga una
  decoración muy varonil\, muy varonil\, muy varonil!!!....ya con los luna
 res del abanico y el delantal de Manolo es suficiente para que la gente si
 ga pensando mal.\n¿Habrá encontrado Manolo ese apartamento tan macho?.\n
 Event link: https://teatroavanti.spaces.nexudus.com/en/events/view/1371768
 404/que-buena-suerte-tengo-pa-tó----viernes-25-y-sábado-26--21-00-h----s
 eptiembre--público-adulto-\n
DTEND;TZID=Europe/Paris:20200927T220000
DTSTAMP:20260422T072631Z
DTSTART;TZID=Europe/Paris:20200925T210000
LOCATION:Teatro Avanti
SEQUENCE:0
SUMMARY:QUE BUENA SUERTE TENGO PA TÓ  - Viernes 25 y Sábado 26 (21:00 h) 
   Septiembre. Público Adulto.
UID:5d0c83b1-5bbe-41ab-96ab-24d70b38e921
END:VEVENT
END:VCALENDAR
