BEGIN:VCALENDAR
PRODID:Nexudus
VERSION:2.0
BEGIN:VTIMEZONE
TZID:Europe/Paris
X-LIC-LOCATION:Europe/Paris
BEGIN:STANDARD
DTSTART:20241027T030000
RRULE:FREQ=YEARLY;BYDAY=-1SU;BYMONTH=10
TZNAME:CET
TZOFFSETFROM:+0200
TZOFFSETTO:+0100
END:STANDARD
BEGIN:DAYLIGHT
DTSTART:20250330T020000
RRULE:FREQ=YEARLY;BYDAY=-1SU;BYMONTH=3
TZNAME:CEST
TZOFFSETFROM:+0100
TZOFFSETTO:+0200
END:DAYLIGHT
END:VTIMEZONE
BEGIN:VEVENT
DESCRIPTION:Magia\, humor \, fantasía\, música y la participación del p
 úblico\, son los ingredientes necesarios para  que NEW COMIC se convierta
  en un espectáculo que te invada de ilusión.  Mago Alúa PREMIO NACIONAL
  DE MAGIA nos ofrece lo mejor de casi 20 años dedicado al arte del ilusio
 nismo.\nEvent link: https://teatroavanti.spaces.nexudus.com/en/events/view
 /1371768403/new-comic--mago-alua---domingo-20-septiembre--18-00-h--públic
 o-familiar\n
DTEND;TZID=Europe/Paris:20200920T190000
DTSTAMP:20260422T072627Z
DTSTART;TZID=Europe/Paris:20200920T180000
LOCATION:Teatro Avanti
SEQUENCE:0
SUMMARY:NEW COMIC -Mago Alua - Domingo 20 Septiembre (18:00 h) Público Fam
 iliar 
UID:ce01a9eb-73d9-4696-93a7-4e5c1a735c64
END:VEVENT
END:VCALENDAR
