BEGIN:VCALENDAR
PRODID:Nexudus
VERSION:2.0
BEGIN:VTIMEZONE
TZID:Europe/Paris
X-LIC-LOCATION:Europe/Paris
BEGIN:STANDARD
DTSTART:20241027T030000
RRULE:FREQ=YEARLY;BYDAY=-1SU;BYMONTH=10
TZNAME:CET
TZOFFSETFROM:+0200
TZOFFSETTO:+0100
END:STANDARD
BEGIN:DAYLIGHT
DTSTART:20250330T020000
RRULE:FREQ=YEARLY;BYDAY=-1SU;BYMONTH=3
TZNAME:CEST
TZOFFSETFROM:+0100
TZOFFSETTO:+0200
END:DAYLIGHT
END:VTIMEZONE
BEGIN:VEVENT
DESCRIPTION:<p>GRACIAS POR CONFIAR EN TEATRO AVANTI</p>\nEvent link: https:
 //teatroavanti.spaces.nexudus.com/en/events/view/1281546276/es-nuestro-des
 eo-poner-pronto-en-funcionamiento-las-escuelas-de-artes-escenicas-teatro-a
 vanti\n
DTEND;TZID=Europe/Paris:20200520T180000
DTSTAMP:20260422T072647Z
DTSTART;TZID=Europe/Paris:20200601T180000
LOCATION:Teatro Avanti
SEQUENCE:0
SUMMARY:ES NUESTRO DESEO PONER PRONTO EN FUNCIONAMIENTO LAS ESCUELAS DE ART
 ES ESCENICAS-TEATRO AVANTI
UID:9328ca84-1329-44aa-a9d7-fe3fe6c46325
END:VEVENT
END:VCALENDAR
