BEGIN:VCALENDAR
PRODID:Nexudus
VERSION:2.0
BEGIN:VTIMEZONE
TZID:Europe/Paris
X-LIC-LOCATION:Europe/Paris
BEGIN:STANDARD
DTSTART:20241027T030000
RRULE:FREQ=YEARLY;BYDAY=-1SU;BYMONTH=10
TZNAME:CET
TZOFFSETFROM:+0200
TZOFFSETTO:+0100
END:STANDARD
BEGIN:DAYLIGHT
DTSTART:20250330T020000
RRULE:FREQ=YEARLY;BYDAY=-1SU;BYMONTH=3
TZNAME:CEST
TZOFFSETFROM:+0100
TZOFFSETTO:+0200
END:DAYLIGHT
END:VTIMEZONE
BEGIN:VEVENT
DESCRIPTION:<p>Es una experiencia c&oacute\;mica &uacute\;nica e irrepetibl
 e\, en la que el p&uacute\;blico decide de manera directa la mayor&iacute\
 ;a de los elementos de las historias que se representan. Nuestros actores 
 no saben qu&eacute\; personajes interpretar&aacute\;n o d&oacute\;nde se d
 esarrollar&aacute\;n sus aventuras esc&eacute\;nicas hasta que el p&uacute
 \;blico da sus indicaciones. Adem&aacute\;s de esta peculiaridad\, una gra
 n variedad de pruebas dan color a las improvisaciones\, que se convierten 
 en verdaderos retos cuya dificultad creciente contagia al p&uacute\;blico 
 del v&eacute\;rtigo que supone el salto al vac&iacute\;o caracter&iacute\;
 stico de este tipo de teatro.</p>\nEvent link: https://teatroavanti.spaces
 .nexudus.com/en/events/view/1281540267/queda-pospuesta-la-representacion-d
 e-este-espectáculo-hasta-nuevo-aviso--improductivos-show\n
DTEND;TZID=Europe/Paris:20200520T220000
DTSTAMP:20260422T072631Z
DTSTART;TZID=Europe/Paris:20200424T210000
LOCATION:Teatro Avanti
SEQUENCE:0
SUMMARY:QUEDA POSPUESTA LA REPRESENTACION DE ESTE ESPECTÁCULO HASTA NUEVO 
 AVISO.-Improductivos Show 
UID:eb3f1334-33c3-46cf-9934-336e87dd8c3f
END:VEVENT
END:VCALENDAR
