BEGIN:VCALENDAR
PRODID:Nexudus
VERSION:2.0
BEGIN:VTIMEZONE
TZID:Europe/Paris
X-LIC-LOCATION:Europe/Paris
BEGIN:STANDARD
DTSTART:20241027T030000
RRULE:FREQ=YEARLY;BYDAY=-1SU;BYMONTH=10
TZNAME:CET
TZOFFSETFROM:+0200
TZOFFSETTO:+0100
END:STANDARD
BEGIN:DAYLIGHT
DTSTART:20250330T020000
RRULE:FREQ=YEARLY;BYDAY=-1SU;BYMONTH=3
TZNAME:CEST
TZOFFSETFROM:+0100
TZOFFSETTO:+0200
END:DAYLIGHT
END:VTIMEZONE
BEGIN:VEVENT
DESCRIPTION:Seis son los personajes que darán vida a este cuento\; un narr
 ador sorprendente\ny divertido que viene de otro cuento\, una madre latina
  muy rumbosa e inteligente\,\nun superhéroe del bosque algo despistado\, 
 una niña caprichosa\, un lobo\nvegetariano y una abuela muy moderna.\nEve
 nt link: https://teatroavanti.spaces.nexudus.com/en/events/view/1231820761
 /caperucita-roja-domingo-8-marzo--12-00-y-18-00-horas--publico-familiar-\n
DTEND;TZID=Europe/Paris:20200309T190000
DTSTAMP:20260422T084602Z
DTSTART;TZID=Europe/Paris:20200308T120000
LOCATION:Teatro Avanti
SEQUENCE:0
SUMMARY:Caperucita Roja.Domingo 8 Marzo (12:00 y 18:00 horas) Publico Famil
 iar.
UID:51f7d8e9-b611-4c39-a055-2df574dd0627
END:VEVENT
END:VCALENDAR
