BEGIN:VCALENDAR
PRODID:Nexudus
VERSION:2.0
BEGIN:VTIMEZONE
TZID:Europe/Paris
X-LIC-LOCATION:Europe/Paris
BEGIN:STANDARD
DTSTART:20241027T030000
RRULE:FREQ=YEARLY;BYDAY=-1SU;BYMONTH=10
TZNAME:CET
TZOFFSETFROM:+0200
TZOFFSETTO:+0100
END:STANDARD
BEGIN:DAYLIGHT
DTSTART:20250330T020000
RRULE:FREQ=YEARLY;BYDAY=-1SU;BYMONTH=3
TZNAME:CEST
TZOFFSETFROM:+0100
TZOFFSETTO:+0200
END:DAYLIGHT
END:VTIMEZONE
BEGIN:VEVENT
DESCRIPTION:La obra es una reflexión divertida sobre la complejidad de ser
  mujer\, de lo exigente\,\ny mil veces contradictorio del rol femenino. De
  la lata que da eso de tratar\nde ser una mujer perfecta\, ser una “supe
 rguoman”\, donde se da por hecho que\nya tenemos que saber cómo serlo p
 or el simple hecho de haber nacido mujeres\ny cómo en realidad\, estamos 
 totalmente perdidas\, y salimos del paso lo mejor\nque podemos\, que ya es
  mucho. La protagonista se enfrenta a situaciones cotidianas\nde cualquier
  mujer y cuenta cómo sobrevive o las sobrelleva\, siempre\ncon muchísimo
  humor\, hasta llegar a provocar auténticas carcajadas.\nEvent link: http
 s://teatroavanti.spaces.nexudus.com/en/events/view/1231820760/localidades-
 agotadas--jodidas-pero-contentas---sábado-7-marzo--21-00-horas--público-
 adulto-\n
DTEND;TZID=Europe/Paris:20200307T220000
DTSTAMP:20260422T084644Z
DTSTART;TZID=Europe/Paris:20200307T210000
LOCATION:Teatro Avanti
SEQUENCE:0
SUMMARY:LOCALIDADES AGOTADAS. Jodidas pero contentas - Sábado 7 Marzo (21:
 00 horas) Público Adulto.
UID:92549035-4ad4-460c-bd54-b041629b35ff
END:VEVENT
END:VCALENDAR
