BEGIN:VCALENDAR
PRODID:Nexudus
VERSION:2.0
BEGIN:VTIMEZONE
TZID:Europe/Paris
X-LIC-LOCATION:Europe/Paris
BEGIN:STANDARD
DTSTART:20241027T030000
RRULE:FREQ=YEARLY;BYDAY=-1SU;BYMONTH=10
TZNAME:CET
TZOFFSETFROM:+0200
TZOFFSETTO:+0100
END:STANDARD
BEGIN:DAYLIGHT
DTSTART:20250330T020000
RRULE:FREQ=YEARLY;BYDAY=-1SU;BYMONTH=3
TZNAME:CEST
TZOFFSETFROM:+0100
TZOFFSETTO:+0200
END:DAYLIGHT
END:VTIMEZONE
BEGIN:VEVENT
DESCRIPTION:Con motivo del Día Internacional contra el Cáncer Infantil\, 
 tendrá lugar una gran\nGala Solidaria. Serán\, Los Médicos de la Risa d
 el Hospital Universitario Reina Sofía\nde Córdoba\, y Teatro Avanti los 
 encargados de hacer un día inolvidable a través\nde la magia\, el circo 
 y mucha alegría\, además de ofrecer y aportar nuestra ayuda\npor una gra
 n causa. El importe recaudado de esta gala se destinará\, a través\ndel 
 Instituto Maimónides de Investigación Biomédica de Córdoba (IMIBIC)\, 
 a la\ninvestigación en oncología pediátrica que se lleva a cabo en dich
 o instituto y en\nel Hospital Universitario Reina Sofía.\nEvent link: htt
 ps://teatroavanti.spaces.nexudus.com/en/events/view/1231820759/gala-solida
 ria--día-internacional-contra-el-cancer-infantil--domingo-16-febrero--18-
 00-horas--público-familiar-\n
DTEND;TZID=Europe/Paris:20200216T190000
DTSTAMP:20260422T084651Z
DTSTART;TZID=Europe/Paris:20200216T180000
LOCATION:Teatro Avanti
SEQUENCE:0
SUMMARY:Gala Solidaria. Día internacional contra el cancer infantil. Domin
 go 16 Febrero (18:00 horas) Público Familiar.
UID:74c35daa-e5d7-4116-a2bf-d15b35f4acdd
END:VEVENT
END:VCALENDAR
