BEGIN:VCALENDAR
PRODID:Nexudus
VERSION:2.0
BEGIN:VTIMEZONE
TZID:Europe/Paris
X-LIC-LOCATION:Europe/Paris
BEGIN:STANDARD
DTSTART:20241027T030000
RRULE:FREQ=YEARLY;BYDAY=-1SU;BYMONTH=10
TZNAME:CET
TZOFFSETFROM:+0200
TZOFFSETTO:+0100
END:STANDARD
BEGIN:DAYLIGHT
DTSTART:20250330T020000
RRULE:FREQ=YEARLY;BYDAY=-1SU;BYMONTH=3
TZNAME:CEST
TZOFFSETFROM:+0100
TZOFFSETTO:+0200
END:DAYLIGHT
END:VTIMEZONE
BEGIN:VEVENT
DESCRIPTION:14 Festival de Circo de Córdoba. Vaya par es un espectáculo d
 e circo fresco y\ndinámico. En clave de humor\, los personajes que al par
 ecer no se conocían\nde antes recorrerán una y otra vez el escenario bus
 cando el lugar\, a veces\nindividual y a veces compartido\, donde realizar
  las peripecias circences más\nalucinantes: monociclo\, equilibrios\, con
 torsiones\, manipulación de sombreros\,\nalgo de magia y números partici
 pativos.\nEvent link: https://teatroavanti.spaces.nexudus.com/en/events/vi
 ew/1184311130/vaya-par---cía-trotonix---domingo-1-diciembre--12-00-h--pú
 blico-familiar-\n
DTEND;TZID=Europe/Paris:20191201T130000
DTSTAMP:20260422T084833Z
DTSTART;TZID=Europe/Paris:20191201T120000
LOCATION:Teatro Avanti
SEQUENCE:0
SUMMARY:Vaya PAR - Cía Trotonix - Domingo 1 Diciembre (12:00 h) Público F
 amiliar.
UID:f2a5a805-6618-480b-84c3-d59bb303bd09
END:VEVENT
END:VCALENDAR
