BEGIN:VCALENDAR
PRODID:Nexudus
VERSION:2.0
BEGIN:VTIMEZONE
TZID:Europe/Paris
X-LIC-LOCATION:Europe/Paris
BEGIN:STANDARD
DTSTART:20241027T030000
RRULE:FREQ=YEARLY;BYDAY=-1SU;BYMONTH=10
TZNAME:CET
TZOFFSETFROM:+0200
TZOFFSETTO:+0100
END:STANDARD
BEGIN:DAYLIGHT
DTSTART:20250330T020000
RRULE:FREQ=YEARLY;BYDAY=-1SU;BYMONTH=3
TZNAME:CEST
TZOFFSETFROM:+0100
TZOFFSETTO:+0200
END:DAYLIGHT
END:VTIMEZONE
BEGIN:VEVENT
DESCRIPTION:14 Festival de Circo de Córdoba. El Güasa de Los Güilson es 
 un espectáculo\nvivo donde la diversión está garantizada. Espectáculo 
 circense\, interactivo\,\nactual\, moderno\, lleno de ritmo y energía\, c
 on la música como protagonista.\nTres personajes nos llevarán a un mundo
  donde lo disparatado y la locura\nbien entendida nos harán pasar momento
 s de risa\, de mucha risa a velocidad\n5Gggg. Espectáculo garantizado con
  el sello de Los Güilson.\nEvent link: https://teatroavanti.spaces.nexudu
 s.com/en/events/view/1180217045/el-guasa-de-los-güilson-5gggg--domingo-1-
 diciembre---18-00-h--publico-familiar\n
DTEND;TZID=Europe/Paris:20191201T180000
DTSTAMP:20260422T084505Z
DTSTART;TZID=Europe/Paris:20191201T180000
LOCATION:Teatro Avanti
SEQUENCE:0
SUMMARY:El Guasa de Los Güilson 5Gggg -Domingo 1 Diciembre ( 18:00 h) Publ
 ico Familiar
UID:b0ed3975-2468-4c04-b9da-bd7535b85ee8
END:VEVENT
END:VCALENDAR
