BEGIN:VCALENDAR
PRODID:Nexudus
VERSION:2.0
BEGIN:VTIMEZONE
TZID:Europe/Paris
X-LIC-LOCATION:Europe/Paris
BEGIN:STANDARD
DTSTART:20241027T030000
RRULE:FREQ=YEARLY;BYDAY=-1SU;BYMONTH=10
TZNAME:CET
TZOFFSETFROM:+0200
TZOFFSETTO:+0100
END:STANDARD
BEGIN:DAYLIGHT
DTSTART:20250330T020000
RRULE:FREQ=YEARLY;BYDAY=-1SU;BYMONTH=3
TZNAME:CEST
TZOFFSETFROM:+0100
TZOFFSETTO:+0200
END:DAYLIGHT
END:VTIMEZONE
BEGIN:VEVENT
DESCRIPTION:Lía\, entre las ruinas de una casa encuentra un libro medio qu
 emado y descubre con sorpresa que se trata de “Alicia en el país de las
  maravillas”\, ¡su cuento favorito! Pero el cuento\, no está entero\, 
 le faltan páginas. De pronto comienzan a aparecer personajes del libro qu
 e confunden a Lía con Alicia\, pero que no pueden seguir el desarrollo de
 l cuento porque faltan los pasajes quemados. Lía los ayudará a encontrar
  sentido a sus escenas\, buscando otras soluciones. Al final del viaje tod
 os habrán aprendido algo y Lía no volverá nunca a ser la misma.\nEvent 
 link: https://teatroavanti.spaces.nexudus.com/en/events/view/1168329177/el
 -viaje-de-alicia---arden-producciones---domingo-24-noviembre--12-00-y-18-0
 0-h-\n
DTEND;TZID=Europe/Paris:20191124T200000
DTSTAMP:20260422T084754Z
DTSTART;TZID=Europe/Paris:20191124T120000
LOCATION:Teatro Avanti
SEQUENCE:0
SUMMARY:El viaje de Alicia - Arden producciones - Domingo 24 Noviembre (12:
 00 y 18:00 h)
UID:b0e6c102-83a9-43a0-8519-4aedc2e65f77
END:VEVENT
END:VCALENDAR
