BEGIN:VCALENDAR
PRODID:Nexudus
VERSION:2.0
BEGIN:VTIMEZONE
TZID:Europe/Paris
X-LIC-LOCATION:Europe/Paris
BEGIN:STANDARD
DTSTART:20241027T030000
RRULE:FREQ=YEARLY;BYDAY=-1SU;BYMONTH=10
TZNAME:CET
TZOFFSETFROM:+0200
TZOFFSETTO:+0100
END:STANDARD
BEGIN:DAYLIGHT
DTSTART:20250330T020000
RRULE:FREQ=YEARLY;BYDAY=-1SU;BYMONTH=3
TZNAME:CEST
TZOFFSETFROM:+0100
TZOFFSETTO:+0200
END:DAYLIGHT
END:VTIMEZONE
BEGIN:VEVENT
DESCRIPTION:"Clasicos Mágicos" es un espectáculo mágico con música en d
 irecto\, donde de una manera divertida vamos a aprender el mundo de la mú
 sica clásica\, los tipos de instrumentos\, los autores más significativo
 s y cuáles son sus piezas musicales más celebres\, como se hace Música\
 , con un director de orquesta y músicos algo  especiales y  todo acompañ
 ado de un buen número de trucos y efectos de Magia. \n\nPrecio entradas e
 n taquilla: Infantil 6 € -  Adulto 7 €\nEvent link: https://teatroavan
 ti.spaces.nexudus.com/en/events/view/1163672510/clasicos-magicos---producc
 iones-avanti---domingo-10-noviembre--12-00-y-18-00-h--público-familiar-\n
DTEND;TZID=Europe/Paris:20191110T190000
DTSTAMP:20260422T101430Z
DTSTART;TZID=Europe/Paris:20191110T120000
LOCATION:Teatro Avanti
SEQUENCE:0
SUMMARY:Clasicos Magicos - Producciones Avanti - Domingo 10 Noviembre (12:0
 0 y 18:00 h) Público Familiar.
UID:f0752920-6724-42b8-b408-3604fdc5190e
END:VEVENT
END:VCALENDAR
