BEGIN:VCALENDAR
PRODID:Nexudus
VERSION:2.0
BEGIN:VTIMEZONE
TZID:Europe/Paris
X-LIC-LOCATION:Europe/Paris
BEGIN:STANDARD
DTSTART:20241027T030000
RRULE:FREQ=YEARLY;BYDAY=-1SU;BYMONTH=10
TZNAME:CET
TZOFFSETFROM:+0200
TZOFFSETTO:+0100
END:STANDARD
BEGIN:DAYLIGHT
DTSTART:20250330T020000
RRULE:FREQ=YEARLY;BYDAY=-1SU;BYMONTH=3
TZNAME:CEST
TZOFFSETFROM:+0100
TZOFFSETTO:+0200
END:DAYLIGHT
END:VTIMEZONE
BEGIN:VEVENT
DESCRIPTION:Nina\, una niña como cualquier otra que puedas conocer\, acaba
  de mudarse a una ciudad nueva con sus padres. Tal\nes la vergüenza que l
 e provoca el hacer nuevas amistades\, que se pasa los días viendo la tele
  sola en su habitación. Y es que a veces\nse le olvida ¡hasta comer! Com
 o le dan miedo los perros\, los gatos y todo tipo de animales... tampoco t
 iene la compañía de ningún\nanimal con el que jugar. Pero un día\, de 
 forma inesperada\, se va la luz en su casa y entonces le presta atención 
 a un extraño libro\ntitulado “Animalarium”\; comienza a leerlo sin da
 rse cuenta de que acaba de abrir la puerta al mundo de la imaginación. Mu
 y pronto\nrecibirá la visita de unos personajes muy peculiares que habita
 n en ese libro.\nEvent link: https://teatroavanti.spaces.nexudus.com/en/ev
 ents/view/1148883739/animalarium---cía--banánica---domingo-20-octubre--1
 8-00-horas--público-familiar-\n
DTEND;TZID=Europe/Paris:20191020T190000
DTSTAMP:20260422T101630Z
DTSTART;TZID=Europe/Paris:20191020T180000
LOCATION:Teatro Avanti
SEQUENCE:0
SUMMARY:ANIMALARIUM - Cía: Banánica - Domingo 20 Octubre (18:00 horas) P
 úblico Familiar.
UID:84dc1fe3-0df2-457c-b5f9-dc944408ff38
END:VEVENT
END:VCALENDAR
