BEGIN:VCALENDAR
PRODID:Nexudus
VERSION:2.0
BEGIN:VTIMEZONE
TZID:Europe/Paris
X-LIC-LOCATION:Europe/Paris
BEGIN:STANDARD
DTSTART:20241027T030000
RRULE:FREQ=YEARLY;BYDAY=-1SU;BYMONTH=10
TZNAME:CET
TZOFFSETFROM:+0200
TZOFFSETTO:+0100
END:STANDARD
BEGIN:DAYLIGHT
DTSTART:20250330T020000
RRULE:FREQ=YEARLY;BYDAY=-1SU;BYMONTH=3
TZNAME:CEST
TZOFFSETFROM:+0100
TZOFFSETTO:+0200
END:DAYLIGHT
END:VTIMEZONE
BEGIN:VEVENT
DESCRIPTION:En el corazón de África\, nace Niara\, una niña muy valiente
  que intentará deshacer del maleficio que la bruja Oba ha lanzado sobre s
 u poblado\, dejándolos sin agua. Niara\, con ayuda de los sabios consejos
  de Ayira su madre\, tendrá que emprender un largo viaje\, a través del 
 cual irá en búsqueda de los diferentes ingredientes que componen el ant
 ídoto contra el maleficio. Un viaje a través de maravillosos lugares com
 o el desierto\, la India o Brasil\, donde Niara se encontrará con gente d
 e otras culturas y tradiciones\, cuyos valores ayudarán a Niara a encontr
 ar el antídoto. \n\nPrecio entrada venta anticipada en taquilla 10 € - 
 El mismo día del espectáculo 12 €\nEvent link: https://teatroavanti.sp
 aces.nexudus.com/en/events/view/1148883737/hechizada---cía--ashira-danza-
 oriental---sábado-19-octubre--21-00-horas--todos-los-públicos\n
DTEND;TZID=Europe/Paris:20191019T220000
DTSTAMP:20260422T101630Z
DTSTART;TZID=Europe/Paris:20191019T210000
LOCATION:Teatro Avanti
SEQUENCE:0
SUMMARY:HECHIZADA - Cía: Ashira Danza Oriental - Sábado 19 Octubre (21:00
  horas) Todos los públicos
UID:f3a06855-6688-468a-bc9e-0fba5e90666a
END:VEVENT
END:VCALENDAR
