BEGIN:VCALENDAR
PRODID:Nexudus
VERSION:2.0
BEGIN:VTIMEZONE
TZID:Europe/Paris
X-LIC-LOCATION:Europe/Paris
BEGIN:STANDARD
DTSTART:20241027T030000
RRULE:FREQ=YEARLY;BYDAY=-1SU;BYMONTH=10
TZNAME:CET
TZOFFSETFROM:+0200
TZOFFSETTO:+0100
END:STANDARD
BEGIN:DAYLIGHT
DTSTART:20250330T020000
RRULE:FREQ=YEARLY;BYDAY=-1SU;BYMONTH=3
TZNAME:CEST
TZOFFSETFROM:+0100
TZOFFSETTO:+0200
END:DAYLIGHT
END:VTIMEZONE
BEGIN:VEVENT
DESCRIPTION:CYCLO es una propuesta de teatro de marionetas con música en d
 irecto\, que nos habla de la capacidad integradora de la naturaleza\, cuyo
 s mágicos procesos siempre nos sorprenden: una bici olvidada junto a un 
 árbol aparece años después formando parte de él\, a varios metros del 
 suelo.\nUn pequeño mapache y su mamá viajan por el mundo buscando un lug
 ar donde vivir. El árbol que “abraza” una bicicleta será su nuevo ho
 gar\, y entre juegos y descubrimientos irán conociendo al resto de animal
 es del bosque.\n\nEvent link: https://teatroavanti.spaces.nexudus.com/en/e
 vents/view/1145018931/cyclo---cía--el-callejon-del-gato---domingo-6-octub
 re--18-00-h---público-familiar\n
DTEND;TZID=Europe/Paris:20191006T190000
DTSTAMP:20260422T101548Z
DTSTART;TZID=Europe/Paris:20191006T180000
LOCATION:Teatro Avanti
SEQUENCE:0
SUMMARY:CYCLO - Cía: El Callejon del Gato - Domingo 6 Octubre (18:00 h.) P
 úblico Familiar
UID:beb29f04-9c04-4aba-bd8b-bb2af196ac66
END:VEVENT
END:VCALENDAR
