BEGIN:VCALENDAR
PRODID:Nexudus
VERSION:2.0
BEGIN:VTIMEZONE
TZID:Europe/Paris
X-LIC-LOCATION:Europe/Paris
BEGIN:STANDARD
DTSTART:20241027T030000
RRULE:FREQ=YEARLY;BYDAY=-1SU;BYMONTH=10
TZNAME:CET
TZOFFSETFROM:+0200
TZOFFSETTO:+0100
END:STANDARD
BEGIN:DAYLIGHT
DTSTART:20250330T020000
RRULE:FREQ=YEARLY;BYDAY=-1SU;BYMONTH=3
TZNAME:CEST
TZOFFSETFROM:+0100
TZOFFSETTO:+0200
END:DAYLIGHT
END:VTIMEZONE
BEGIN:VEVENT
DESCRIPTION:Manolo y Javier se cambian de piso. El excesivo amaneramiento d
 e Manolo\nha conseguido que ya todo el vecindario piense que tanto él com
 o Javier\nson pareja de hecho. Se mudan a un apartamento nuevo a peticion 
 de Javier\ny con única condición de que el nuevo hogar tenga una decorac
 ión muy varonil\,\nmuy varonil\, muy varonil. Ya con los lunares del aban
 ico y el delantal\nde manolo es suficiente para que la gente siga pensando
  mal.\n¿Habrá encontrado Manolo ese apartamento tan “macho”?\n\nPrec
 io entrada venta anticipada 10 € - El mismo día del espectáculo 12 €
 \nEvent link: https://teatroavanti.spaces.nexudus.com/en/events/view/10943
 27242/que-mala-suerte-tengo-pa-tó--viernes-27-septiembre--21-00-h---sába
 do-28-septiembre--18-00-h--y-21-00-h---público-adulto-\n
DTEND;TZID=Europe/Paris:20190928T220000
DTSTAMP:20260422T115153Z
DTSTART;TZID=Europe/Paris:20190927T210000
LOCATION:Teatro Avanti
SEQUENCE:0
SUMMARY:Que mala suerte tengo pa tó. Viernes 27 Septiembre (21:00 h.) Sáb
 ado 28 Septiembre (18:00 h. y 21:00 h.) Público Adulto.
UID:82b9d02a-1b9b-4f04-923a-f564ea5c42fa
END:VEVENT
END:VCALENDAR
