BEGIN:VCALENDAR
PRODID:Nexudus
VERSION:2.0
BEGIN:VTIMEZONE
TZID:Europe/Paris
X-LIC-LOCATION:Europe/Paris
BEGIN:STANDARD
DTSTART:20241027T030000
RRULE:FREQ=YEARLY;BYDAY=-1SU;BYMONTH=10
TZNAME:CET
TZOFFSETFROM:+0200
TZOFFSETTO:+0100
END:STANDARD
BEGIN:DAYLIGHT
DTSTART:20250330T020000
RRULE:FREQ=YEARLY;BYDAY=-1SU;BYMONTH=3
TZNAME:CEST
TZOFFSETFROM:+0100
TZOFFSETTO:+0200
END:DAYLIGHT
END:VTIMEZONE
BEGIN:VEVENT
DESCRIPTION:Muestra de las Escuelas de Teatro\, Música\, Danza\, Payasos y
  Magia.\nENTRADA GRATUITA (Hasta completar aforo).\nEvent link: https://te
 atroavanti.spaces.nexudus.com/en/events/view/1026790779/muestra-de-los-gru
 pos-de-danza--domingo-9-junio--1er--grupo-12-00-h--2do--grupo-19-00-\n
DTEND;TZID=Europe/Paris:20190609T130000
DTSTAMP:20260422T115106Z
DTSTART;TZID=Europe/Paris:20190609T120000
LOCATION:Teatro Avanti
SEQUENCE:0
SUMMARY:MUESTRA DE LOS GRUPOS DE DANZA. Domingo 9 Junio. 1er. Grupo 12:00 h
 . 2do. Grupo 19:00.
UID:1aba8ca9-6ccc-4880-adeb-fef7c476d0ed
END:VEVENT
END:VCALENDAR
