BEGIN:VCALENDAR
PRODID:Nexudus
VERSION:2.0
BEGIN:VTIMEZONE
TZID:Europe/Paris
X-LIC-LOCATION:Europe/Paris
BEGIN:STANDARD
DTSTART:20241027T030000
RRULE:FREQ=YEARLY;BYDAY=-1SU;BYMONTH=10
TZNAME:CET
TZOFFSETFROM:+0200
TZOFFSETTO:+0100
END:STANDARD
BEGIN:DAYLIGHT
DTSTART:20250330T020000
RRULE:FREQ=YEARLY;BYDAY=-1SU;BYMONTH=3
TZNAME:CEST
TZOFFSETFROM:+0100
TZOFFSETTO:+0200
END:DAYLIGHT
END:VTIMEZONE
BEGIN:VEVENT
DESCRIPTION:Muestra de las Escuelas de Teatro\, Música\, Danza\, Payasos y
  Magia.\nENTRADA GRATUITA (Hasta completar aforo).\nEvent link: https://te
 atroavanti.spaces.nexudus.com/en/events/view/1026662640/grupo-lorca--viern
 es-7-junio--21-00-horas-\n
DTEND;TZID=Europe/Paris:20190607T220000
DTSTAMP:20260422T115215Z
DTSTART;TZID=Europe/Paris:20190607T210000
LOCATION:Teatro Avanti
SEQUENCE:0
SUMMARY:GRUPO LORCA. Viernes 7 Junio (21:00 horas)
UID:6d3ff2d7-941c-439e-a01b-63aa0d2c5124
END:VEVENT
END:VCALENDAR
