BEGIN:VCALENDAR
PRODID:Nexudus
VERSION:2.0
BEGIN:VTIMEZONE
TZID:Europe/Paris
X-LIC-LOCATION:Europe/Paris
BEGIN:STANDARD
DTSTART:20241027T030000
RRULE:FREQ=YEARLY;BYDAY=-1SU;BYMONTH=10
TZNAME:CET
TZOFFSETFROM:+0200
TZOFFSETTO:+0100
END:STANDARD
BEGIN:DAYLIGHT
DTSTART:20250330T020000
RRULE:FREQ=YEARLY;BYDAY=-1SU;BYMONTH=3
TZNAME:CEST
TZOFFSETFROM:+0100
TZOFFSETTO:+0200
END:DAYLIGHT
END:VTIMEZONE
BEGIN:VEVENT
DESCRIPTION:Muestra de las Escuelas de Teatro\, Música\, Danza\, Payasos y
  Magia.\nENTRADA GRATUITA (Hasta completar aforo).\nEvent link: https://te
 atroavanti.spaces.nexudus.com/en/events/view/1026065064/equipo-dickens--lu
 nes-3-junio--18-30-horas-\n
DTEND;TZID=Europe/Paris:20190603T200000
DTSTAMP:20260422T115110Z
DTSTART;TZID=Europe/Paris:20190603T183000
LOCATION:Teatro Avanti
SEQUENCE:0
SUMMARY:EQUIPO DICKENS. Lunes 3 Junio (18:30 horas)
UID:cf73ba53-2d03-4723-af93-8aff07569b22
END:VEVENT
END:VCALENDAR
