BEGIN:VCALENDAR
PRODID:Nexudus
VERSION:2.0
BEGIN:VTIMEZONE
TZID:Europe/Paris
X-LIC-LOCATION:Europe/Paris
BEGIN:STANDARD
DTSTART:20241027T030000
RRULE:FREQ=YEARLY;BYDAY=-1SU;BYMONTH=10
TZNAME:CET
TZOFFSETFROM:+0200
TZOFFSETTO:+0100
END:STANDARD
BEGIN:DAYLIGHT
DTSTART:20250330T020000
RRULE:FREQ=YEARLY;BYDAY=-1SU;BYMONTH=3
TZNAME:CEST
TZOFFSETFROM:+0100
TZOFFSETTO:+0200
END:DAYLIGHT
END:VTIMEZONE
BEGIN:VEVENT
DESCRIPTION:Muestra de las Escuelas de Teatro\, Música\, Danza\, Payasos y
  Magia.\nENTRADA GRATUITA (Hasta completar aforo).\nEvent link: https://te
 atroavanti.spaces.nexudus.com/en/events/view/1016497486/grupos-de-música-
 y-movimiento--domingo-2-junio--17-30-horas-\n
DTEND;TZID=Europe/Paris:20190602T180000
DTSTAMP:20260422T115000Z
DTSTART;TZID=Europe/Paris:20190602T170000
LOCATION:Teatro Avanti
SEQUENCE:0
SUMMARY:GRUPOS DE MÚSICA Y MOVIMIENTO. Domingo 2 Junio (17:30 horas)
UID:500ca16b-3852-4565-8c9e-4f7534563e06
END:VEVENT
END:VCALENDAR
