BEGIN:VCALENDAR
PRODID:Nexudus
VERSION:2.0
BEGIN:VTIMEZONE
TZID:Europe/Paris
X-LIC-LOCATION:Europe/Paris
BEGIN:STANDARD
DTSTART:20241027T030000
RRULE:FREQ=YEARLY;BYDAY=-1SU;BYMONTH=10
TZNAME:CET
TZOFFSETFROM:+0200
TZOFFSETTO:+0100
END:STANDARD
BEGIN:DAYLIGHT
DTSTART:20250330T020000
RRULE:FREQ=YEARLY;BYDAY=-1SU;BYMONTH=3
TZNAME:CEST
TZOFFSETFROM:+0100
TZOFFSETTO:+0200
END:DAYLIGHT
END:VTIMEZONE
BEGIN:VEVENT
DESCRIPTION:David Navarro presenta su monólogo «Ya no estamos tan flamenq
 uetes».\nEvent link: https://teatroavanti.spaces.nexudus.com/en/events/vi
 ew/1415021519/ya-no-estamos-tan-flamenquetes---david-navarro---viernes-13-
 mayo--21-00-h--público-adulto\n
DTEND;TZID=Europe/Paris:20220513T220000
DTSTAMP:20260421T154817Z
DTSTART;TZID=Europe/Paris:20220513T210000
LOCATION:Teatro Avanti
SEQUENCE:0
SUMMARY:YA NO ESTAMOS TAN FLAMENQUETES - David Navarro - Viernes 13 Mayo (2
 1:00 h) Público Adulto
UID:c63b804e-5cc0-466d-841b-9143930cffd9
END:VEVENT
END:VCALENDAR
