BEGIN:VCALENDAR
PRODID:Nexudus
VERSION:2.0
BEGIN:VTIMEZONE
TZID:Europe/Paris
X-LIC-LOCATION:Europe/Paris
BEGIN:STANDARD
DTSTART:20241027T030000
RRULE:FREQ=YEARLY;BYDAY=-1SU;BYMONTH=10
TZNAME:CET
TZOFFSETFROM:+0200
TZOFFSETTO:+0100
END:STANDARD
BEGIN:DAYLIGHT
DTSTART:20250330T020000
RRULE:FREQ=YEARLY;BYDAY=-1SU;BYMONTH=3
TZNAME:CEST
TZOFFSETFROM:+0100
TZOFFSETTO:+0200
END:DAYLIGHT
END:VTIMEZONE
BEGIN:VEVENT
DESCRIPTION:\nEvent link: https://teatroavanti.spaces.nexudus.com/en/events
 /view/1415165461/xvi-muestra-de-teatro-aficionado-qurtuba-teatro-2022---de
 l-10-de-febrero-al-25-de-marzo---entrada-venta-exclusiva-en-taquilla--5-\n
DTEND;TZID=Europe/Paris:20230325T230000
DTSTAMP:20260421T122806Z
DTSTART;TZID=Europe/Paris:20230210T000000
LOCATION:Teatro Avanti
SEQUENCE:0
SUMMARY:XVI MUESTRA DE TEATRO AFICIONADO QURTUBA TEATRO 2022 - Del 10 de Fe
 brero al 25 de Marzo - Entrada venta exclusiva en Taquilla. 5€
UID:e88cc179-4601-4aa1-b9a7-314eea778a07
END:VEVENT
END:VCALENDAR
