BEGIN:VCALENDAR
PRODID:Nexudus
VERSION:2.0
BEGIN:VTIMEZONE
TZID:Europe/Paris
X-LIC-LOCATION:Europe/Paris
BEGIN:STANDARD
DTSTART:20241027T030000
RRULE:FREQ=YEARLY;BYDAY=-1SU;BYMONTH=10
TZNAME:CET
TZOFFSETFROM:+0200
TZOFFSETTO:+0100
END:STANDARD
BEGIN:DAYLIGHT
DTSTART:20250330T020000
RRULE:FREQ=YEARLY;BYDAY=-1SU;BYMONTH=3
TZNAME:CEST
TZOFFSETFROM:+0100
TZOFFSETTO:+0200
END:DAYLIGHT
END:VTIMEZONE
BEGIN:VEVENT
DESCRIPTION:UANNA es una fábula poético-visual que cuenta la historia de 
 una niña diferente a las demás. Ella sueña con el mar\, porque en el fo
 ndo todos somos una gota de agua. La niña pez recorre los caminos que tie
 nen corazón… mirando\, mirando\, mirando… UANNA es un espectáculo po
 ético sobre la contaminación que sufren los océanos…“En un mundo de
  plástico y ruido quiero ser de barro y de silencio”.\nEvent link: http
 s://teatroavanti.spaces.nexudus.com/en/events/view/1414895029/xv-fesival-d
 e-titeres-de-cordoba---uanna---sábado-10-abril-2021-a-las-19h--público-f
 amiliar-\n
DTEND;TZID=Europe/Paris:20210410T200000
DTSTAMP:20260422T024653Z
DTSTART;TZID=Europe/Paris:20210410T190000
LOCATION:Teatro Avanti
SEQUENCE:0
SUMMARY:XV FESIVAL DE TITERES DE CORDOBA - UANNA - Sábado 10 Abril 2021 a 
 las 19h (Público Familiar)
UID:b9026aed-a888-48f4-a177-514af0f487ae
END:VEVENT
END:VCALENDAR
