BEGIN:VCALENDAR
PRODID:Nexudus
VERSION:2.0
BEGIN:VTIMEZONE
TZID:Europe/Paris
X-LIC-LOCATION:Europe/Paris
BEGIN:STANDARD
DTSTART:20241027T030000
RRULE:FREQ=YEARLY;BYDAY=-1SU;BYMONTH=10
TZNAME:CET
TZOFFSETFROM:+0200
TZOFFSETTO:+0100
END:STANDARD
BEGIN:DAYLIGHT
DTSTART:20250330T020000
RRULE:FREQ=YEARLY;BYDAY=-1SU;BYMONTH=3
TZNAME:CEST
TZOFFSETFROM:+0100
TZOFFSETTO:+0200
END:DAYLIGHT
END:VTIMEZONE
BEGIN:VEVENT
DESCRIPTION:1 DE FEBRERO - LOYOLA TEATRO - EL DIVINO IMPACIENTE\n\n7 DE FEB
 RERO - PALACIO LUNA - LOCURAS DE UNA FLAMENCA\n\n14 DE FEBRERO - EL GERMO 
 (ESPIEL) - AMOR\, GOLES Y HUEVOS AL DESAMOR\n\n15 DE FEBRERO - MORFEO - UN
  ANGEL VINO A VERME\n\n21 DE FEBRERO - AL-TEQUOA - DESDE LA FOSA\n\n22 DE 
 FEBRERO - LA PLAZA - 6 MUJERES Y EL DIVINO MARQUES\n\n28 DE FEBRERO - HIST
 ORIAS DE PAPEL - SILICONA\n\n29 DE FEBRERO - PONTAN@S - LA ULTIMA RELIQUIA
 \n\nCANCELADO// 6 DE MARZO -TEATRO DEL ALMA (VILLA DEL RIO) - UNA HORA DE 
 FELICIDAD\n\n13 DE MARZO - SQUIZO TEATRO - EL CRÉDITO\n\n14 DE MARZO - AT
 ARDECER - EL AVARO\n\n15 DE MARZO - TEATRO  INFANTIL EL GERMO - RIODINIA\n
 \nCANCELADO//  27 DE MARZO - TRITEATRAS  - MUJERES EN CRISIS\n\n28 DE MARZ
 O - AMISTADES - AROMAS DE CAFÉ\n\nTODAS LAS REPRESENTACIONES COMENZARÁN 
 A LAS 21.00 H.\nEXCEPTO EL ESPECTÁCULO INFANTIL DEL DOMINGO 15 DE MARZO\n
 QUE COMIENZA A LAS 12:00 HORAS.\n\nEvent link: https://teatroavanti.spaces
 .nexudus.com/en/events/view/1222363715/xiv-muestra-de-teatro-aficionado-de
 l-1-febrero-al-28-marzo-2020\n
DTEND;TZID=Europe/Paris:20200312T070000
DTSTAMP:20260422T085403Z
DTSTART;TZID=Europe/Paris:20200201T210000
LOCATION:Teatro Avanti
SEQUENCE:0
SUMMARY:XIV MUESTRA DE TEATRO AFICIONADO del 1 FEBRERO al 28 MARZO 2020
UID:a9b979df-be9e-4126-981e-ec95cfdac897
END:VEVENT
END:VCALENDAR
