BEGIN:VCALENDAR
PRODID:Nexudus
VERSION:2.0
BEGIN:VTIMEZONE
TZID:Europe/Paris
X-LIC-LOCATION:Europe/Paris
BEGIN:STANDARD
DTSTART:20241027T030000
RRULE:FREQ=YEARLY;BYDAY=-1SU;BYMONTH=10
TZNAME:CET
TZOFFSETFROM:+0200
TZOFFSETTO:+0100
END:STANDARD
BEGIN:DAYLIGHT
DTSTART:20250330T020000
RRULE:FREQ=YEARLY;BYDAY=-1SU;BYMONTH=3
TZNAME:CEST
TZOFFSETFROM:+0100
TZOFFSETTO:+0200
END:DAYLIGHT
END:VTIMEZONE
BEGIN:VEVENT
DESCRIPTION:9 de Junio\nDESCANSE EN PAZ...O NO\nCÍA. LA CORDOBANA\n\nDIREC
 CION: RAFAEL DORADO GUTIERREZ\nDURACION: 60 MINUTOS\n- Juan ha muerto. En 
 el tanatorio se encuentran su viuda su hermana\, su cuñada\,\nsu mejor am
 iga y los empleados del tanatorio. Como dijo un famoso político:\n"En Esp
 aña se entierra muy bien a los muertos"...o tal vez no tan bien...mediten
 lo.\nEvent link: https://teatroavanti.spaces.nexudus.com/en/events/view/39
 6527134/xi-muestra-de-teatro-aficionado---venta-de-localidades-solo-en-taq
 uilla-del-teatro-entrada-unica-3-\n
DTEND;TZID=Europe/Paris:20170609T220000
DTSTAMP:20260423T002500Z
DTSTART;TZID=Europe/Paris:20170609T210000
LOCATION:Teatro Avanti
SEQUENCE:0
SUMMARY:XI MUESTRA DE TEATRO AFICIONADO - Venta de localidades solo en taqu
 illa del teatro-Entrada unica 3€
UID:faa7b43d-8527-46a9-801b-8a5e6a569610
END:VEVENT
END:VCALENDAR
