BEGIN:VCALENDAR
PRODID:Nexudus
VERSION:2.0
BEGIN:VTIMEZONE
TZID:Europe/Paris
X-LIC-LOCATION:Europe/Paris
BEGIN:STANDARD
DTSTART:20241027T030000
RRULE:FREQ=YEARLY;BYDAY=-1SU;BYMONTH=10
TZNAME:CET
TZOFFSETFROM:+0200
TZOFFSETTO:+0100
END:STANDARD
BEGIN:DAYLIGHT
DTSTART:20250330T020000
RRULE:FREQ=YEARLY;BYDAY=-1SU;BYMONTH=3
TZNAME:CEST
TZOFFSETFROM:+0100
TZOFFSETTO:+0200
END:DAYLIGHT
END:VTIMEZONE
BEGIN:VEVENT
DESCRIPTION:18 DE MARZO\nCUANDO LAS MUJERES NO PODÍAN VOTAR\nAUTOR: ALBERT
 O MIRALLES\nDIRECCION: CARMEN REY\nDURACION: 100 MINUTOS\n- En la España 
 de 1931 se encontraban enfrentados el sufragismo y el socialismo\ny se dud
 aba si concederle el voto o no a la mujer.La obra es ácida\,incisiva y\nc
  r í t i c a \, p e r o v i s t a d e s d e e l p r i s m a d e l h u m o
  r .\nEvent link: https://teatroavanti.spaces.nexudus.com/en/events/view/3
 04054758/xi-muestra-de-teatro-aficionado---venta-de-localidades-solo-en-ta
 quilla-del-teatro-entrada-unica-3-\n
DTEND;TZID=Europe/Paris:20170318T210000
DTSTAMP:20260423T014805Z
DTSTART;TZID=Europe/Paris:20170318T210000
LOCATION:Teatro Avanti
SEQUENCE:0
SUMMARY:XI MUESTRA DE TEATRO AFICIONADO - Venta de localidades solo en taqu
 illa del teatro-Entrada unica 3€
UID:6d0742f9-53a7-4176-b5c9-dda91eca94ba
END:VEVENT
END:VCALENDAR
