BEGIN:VCALENDAR
PRODID:Nexudus
VERSION:2.0
BEGIN:VTIMEZONE
TZID:Europe/Paris
X-LIC-LOCATION:Europe/Paris
BEGIN:STANDARD
DTSTART:20241027T030000
RRULE:FREQ=YEARLY;BYDAY=-1SU;BYMONTH=10
TZNAME:CET
TZOFFSETFROM:+0200
TZOFFSETTO:+0100
END:STANDARD
BEGIN:DAYLIGHT
DTSTART:20250330T020000
RRULE:FREQ=YEARLY;BYDAY=-1SU;BYMONTH=3
TZNAME:CEST
TZOFFSETFROM:+0100
TZOFFSETTO:+0200
END:DAYLIGHT
END:VTIMEZONE
BEGIN:VEVENT
DESCRIPTION:12 DE MARZO.(INFANTIL A LAS 12 DE LA MAÑANA)\nFLORENTINA Y EL 
 TESORO DE LA CASA ENCANTADA\nAUTOR: MARÍA FERNANDA COSIN\nDIRECCION: OSMA
 RA\nDURACION: 60 MINUTOS\n- Braulito es un niño que tiene mucha imaginaci
 ón para jugar con cualquier cosa\,\nsiempre acompañado de su inseparable
  amiga Florentina\, una tortuga de peluche.\nJunto a alpargato y Bartolón
  vivirá nuevas aventuras en casa la encantada.\nEvent link: https://teatr
 oavanti.spaces.nexudus.com/en/events/view/304054756/xi-muestra-de-teatro-a
 ficionado---venta-de-localidades-solo-en-taquilla-del-teatro-entrada-unica
 -3-\n
DTEND;TZID=Europe/Paris:20170312T120000
DTSTAMP:20260423T014805Z
DTSTART;TZID=Europe/Paris:20170312T120000
LOCATION:Teatro Avanti
SEQUENCE:0
SUMMARY:XI MUESTRA DE TEATRO AFICIONADO - Venta de localidades solo en taqu
 illa del teatro-Entrada unica 3€
UID:0dafcb6e-6ed7-4a54-80b9-a738e1878213
END:VEVENT
END:VCALENDAR
