BEGIN:VCALENDAR
PRODID:Nexudus
VERSION:2.0
BEGIN:VTIMEZONE
TZID:Europe/Paris
X-LIC-LOCATION:Europe/Paris
BEGIN:STANDARD
DTSTART:20241027T030000
RRULE:FREQ=YEARLY;BYDAY=-1SU;BYMONTH=10
TZNAME:CET
TZOFFSETFROM:+0200
TZOFFSETTO:+0100
END:STANDARD
BEGIN:DAYLIGHT
DTSTART:20250330T020000
RRULE:FREQ=YEARLY;BYDAY=-1SU;BYMONTH=3
TZNAME:CEST
TZOFFSETFROM:+0100
TZOFFSETTO:+0200
END:DAYLIGHT
END:VTIMEZONE
BEGIN:VEVENT
DESCRIPTION:11 DE MARZO\n¡YA TENEMOS CHICA!\nCÍA. HISTORIAS DE PAPEL\nAUT
 OR: JUAN JOSÉ ALONSO MILLAN\nDIRECCION: LAURA LÓPEZ\nDURACION: 90 MINUTO
 S\n- Un matrimonio se ve obligado por las necesidades de esta vida moderna
 \, de\nencontrar a una persona que se ocupe de la casa. Una asistenta tras
  otra van\ndesfilando pero ninguna termina de encajar con la idiosincrasia
  de esta familia.\nEvent link: https://teatroavanti.spaces.nexudus.com/en/
 events/view/304054755/xi-muestra-de-teatro-aficionado---venta-de-localidad
 es-solo-en-taquilla-del-teatro-entrada-unica-3-\n
DTEND;TZID=Europe/Paris:20170311T210000
DTSTAMP:20260423T014657Z
DTSTART;TZID=Europe/Paris:20170311T210000
LOCATION:Teatro Avanti
SEQUENCE:0
SUMMARY:XI MUESTRA DE TEATRO AFICIONADO - Venta de localidades solo en taqu
 illa del teatro-Entrada unica 3€
UID:e58c55e4-8b7d-4bbf-9bf7-e06c8efd38dd
END:VEVENT
END:VCALENDAR
