BEGIN:VCALENDAR
PRODID:Nexudus
VERSION:2.0
BEGIN:VTIMEZONE
TZID:Europe/Paris
X-LIC-LOCATION:Europe/Paris
BEGIN:STANDARD
DTSTART:20241027T030000
RRULE:FREQ=YEARLY;BYDAY=-1SU;BYMONTH=10
TZNAME:CET
TZOFFSETFROM:+0200
TZOFFSETTO:+0100
END:STANDARD
BEGIN:DAYLIGHT
DTSTART:20250330T020000
RRULE:FREQ=YEARLY;BYDAY=-1SU;BYMONTH=3
TZNAME:CEST
TZOFFSETFROM:+0100
TZOFFSETTO:+0200
END:DAYLIGHT
END:VTIMEZONE
BEGIN:VEVENT
DESCRIPTION:10 DE MARZO\nCÍA. CUARTA PARED\nLA ISLA DEL NEGRO\n- Nueve per
 sonas reciben unas cartas donde son invitados por un supuesto conocido\na 
 pasar unos días en su mansión.Una vez allí\,en la primera noche\,los in
 vitados son\nasesinados de uno en uno\,el pánico y la desconfianza comien
 za a apoderarse de los\nque van quedando\,sospechando unos de los otros.\n
 Event link: https://teatroavanti.spaces.nexudus.com/en/events/view/3040547
 54/xi-muestra-de-teatro-aficionado---venta-de-localidades-solo-en-taquilla
 -del-teatro-entrada-unica-3-\n
DTEND;TZID=Europe/Paris:20170310T210000
DTSTAMP:20260423T014642Z
DTSTART;TZID=Europe/Paris:20170310T210000
LOCATION:Teatro Avanti
SEQUENCE:0
SUMMARY:XI MUESTRA DE TEATRO AFICIONADO - Venta de localidades solo en taqu
 illa del teatro-Entrada unica 3€
UID:120034fb-3877-43a0-b8d5-aff19912959d
END:VEVENT
END:VCALENDAR
