BEGIN:VCALENDAR
PRODID:Nexudus
VERSION:2.0
BEGIN:VTIMEZONE
TZID:Europe/Paris
X-LIC-LOCATION:Europe/Paris
BEGIN:STANDARD
DTSTART:20241027T030000
RRULE:FREQ=YEARLY;BYDAY=-1SU;BYMONTH=10
TZNAME:CET
TZOFFSETFROM:+0200
TZOFFSETTO:+0100
END:STANDARD
BEGIN:DAYLIGHT
DTSTART:20250330T020000
RRULE:FREQ=YEARLY;BYDAY=-1SU;BYMONTH=3
TZNAME:CEST
TZOFFSETFROM:+0100
TZOFFSETTO:+0200
END:DAYLIGHT
END:VTIMEZONE
BEGIN:VEVENT
DESCRIPTION:3 Marzo \nPoker de Damas\nCía:Al-Tqoa\nAUTOR: CHARO FLORES\nDI
 RECCION: CHARO FLORES\nDURACION: 60 MINUTOS\n- Comedia basada en la histor
 ia de tres mujeres solteras y poco afortunadas hasta\nel momento en el amo
 r\, deciden unirse y darle un vuelco a sus vidas. Señalar que\nva acompa
 ñada de temas musicales de los 70.\nEvent link: https://teatroavanti.spac
 es.nexudus.com/en/events/view/304054752/xi-muestra-de-teatro-aficionado---
 venta-de-localidades-solo-en-taquilla-del-teatro-entrada-unica-3-\n
DTEND;TZID=Europe/Paris:20170303T210000
DTSTAMP:20260423T031048Z
DTSTART;TZID=Europe/Paris:20170303T210000
LOCATION:Teatro Avanti
SEQUENCE:0
SUMMARY:XI MUESTRA DE TEATRO AFICIONADO - Venta de localidades solo en taqu
 illa del teatro-Entrada unica 3€
UID:e6b692b8-b210-429d-bbba-e6aaf967e7cb
END:VEVENT
END:VCALENDAR
