BEGIN:VCALENDAR
PRODID:Nexudus
VERSION:2.0
BEGIN:VTIMEZONE
TZID:Europe/Paris
X-LIC-LOCATION:Europe/Paris
BEGIN:STANDARD
DTSTART:20241027T030000
RRULE:FREQ=YEARLY;BYDAY=-1SU;BYMONTH=10
TZNAME:CET
TZOFFSETFROM:+0200
TZOFFSETTO:+0100
END:STANDARD
BEGIN:DAYLIGHT
DTSTART:20250330T020000
RRULE:FREQ=YEARLY;BYDAY=-1SU;BYMONTH=3
TZNAME:CEST
TZOFFSETFROM:+0100
TZOFFSETTO:+0200
END:DAYLIGHT
END:VTIMEZONE
BEGIN:VEVENT
DESCRIPTION:AUTOR:\nDIRECCION:\nMIGUEL ARIZA DURACION: 75 MINUTOS\n- Muerto
  y a las Bahamas\, es la historia de un matrimonio que se ve obligado\na f
 ingir la muerte del marido\, para no perder la casa ni el estatus social.\
 nLas peripecias de los personajes nos harán reír a carcajadas\, y pregun
 tarnos lo\nabsurdo que a veces puede ser la vida.\nEvent link: https://tea
 troavanti.spaces.nexudus.com/en/events/view/293722444/xi-muestra-de-teatro
 -aficionado---venta-de-localidades-solo-en-taquilla-del-teatro-entrada-uni
 ca-3-\n
DTEND;TZID=Europe/Paris:20170225T000000
DTSTAMP:20260423T031037Z
DTSTART;TZID=Europe/Paris:20170225T210000
LOCATION:Teatro Avanti
SEQUENCE:0
SUMMARY:XI MUESTRA DE TEATRO AFICIONADO - Venta de localidades solo en taqu
 illa del teatro-Entrada unica 3€
UID:b0c89eaa-e4e4-42c3-b7d3-f7e4c11e0cd5
END:VEVENT
END:VCALENDAR
