BEGIN:VCALENDAR
PRODID:Nexudus
VERSION:2.0
BEGIN:VTIMEZONE
TZID:Europe/Paris
X-LIC-LOCATION:Europe/Paris
BEGIN:STANDARD
DTSTART:20241027T030000
RRULE:FREQ=YEARLY;BYDAY=-1SU;BYMONTH=10
TZNAME:CET
TZOFFSETFROM:+0200
TZOFFSETTO:+0100
END:STANDARD
BEGIN:DAYLIGHT
DTSTART:20250330T020000
RRULE:FREQ=YEARLY;BYDAY=-1SU;BYMONTH=3
TZNAME:CEST
TZOFFSETFROM:+0100
TZOFFSETTO:+0200
END:DAYLIGHT
END:VTIMEZONE
BEGIN:VEVENT
DESCRIPTION:AUTOR: CONCHA GÓMEZ\nDIRECCION: CARMEN REY\nDURACION: 120 MINU
 TOS\n- En tono de parodia se muestra la decadencia del reinado de Luis XVI
  y el\ncomienzo del movimiento revolucionario\,todo ello convertido en un 
 vodevil que\nllega a la conclusión que poder corrompe y que siempre es el
  pueblo el que soporta\nlas injusticias.\nEvent link: https://teatroavanti
 .spaces.nexudus.com/en/events/view/293722443/xi-muestra-de-teatro-aficiona
 do---venta-de-localidades-solo-en-taquilla-del-teatro-entrada-unica-3-\n
DTEND;TZID=Europe/Paris:20170224T000000
DTSTAMP:20260423T031021Z
DTSTART;TZID=Europe/Paris:20170224T210000
LOCATION:Teatro Avanti
SEQUENCE:0
SUMMARY:XI MUESTRA DE TEATRO AFICIONADO - Venta de localidades solo en taqu
 illa del teatro-Entrada unica 3€
UID:bb1f2ebd-45c2-48e3-95c6-db127e91539c
END:VEVENT
END:VCALENDAR
