BEGIN:VCALENDAR
PRODID:Nexudus
VERSION:2.0
BEGIN:VTIMEZONE
TZID:Europe/Paris
X-LIC-LOCATION:Europe/Paris
BEGIN:STANDARD
DTSTART:20241027T030000
RRULE:FREQ=YEARLY;BYDAY=-1SU;BYMONTH=10
TZNAME:CET
TZOFFSETFROM:+0200
TZOFFSETTO:+0100
END:STANDARD
BEGIN:DAYLIGHT
DTSTART:20250330T020000
RRULE:FREQ=YEARLY;BYDAY=-1SU;BYMONTH=3
TZNAME:CEST
TZOFFSETFROM:+0100
TZOFFSETTO:+0200
END:DAYLIGHT
END:VTIMEZONE
BEGIN:VEVENT
DESCRIPTION:AUTOR: SANTIAGO MONCADA\nDIRECCION: RICARDO LUNA\nDURACION: 65 
 MINUTOS\n- Seis ex – compañeras de colegio se reúnen después de mucho
 s años sin verse.\nLa velada parece prometedora\, llena de diversión\, c
 onfidencias\, secretos\ndesvelados\, pero la intención de la anfitriona e
 s mucho más profunda y dolorosa\nque un simple encuentro. Las consecuenci
 as serán devastadoras y pondrán a prueba\nla fidelidad y la amistad entr
 e un grupo de mujeres diverso y complicado.\nEvent link: https://teatroava
 nti.spaces.nexudus.com/en/events/view/293722442/xi-muestra-de-teatro-afici
 onado---venta-de-localidades-solo-en-taquilla-del-teatro-entrada-unica-3-\
 n
DTEND;TZID=Europe/Paris:20170218T000000
DTSTAMP:20260423T031037Z
DTSTART;TZID=Europe/Paris:20170218T210000
LOCATION:Teatro Avanti
SEQUENCE:0
SUMMARY:XI MUESTRA DE TEATRO AFICIONADO - Venta de localidades solo en taqu
 illa del teatro-Entrada unica 3€
UID:b65ae70f-6504-43b2-ad6d-0b4ddc9f3cdb
END:VEVENT
END:VCALENDAR
